BEGIN:VCALENDAR
VERSION:2.0
PRODID:-//feednorthlandkids.org//NONSGML kigkonsult.se iCalcreator 2.30.10/
 /
CALSCALE:GREGORIAN
METHOD:PUBLISH
UID:c61a50ab-f578-44ba-bd79-bdb1cfdf30a6
X-WR-CALDESC:Metropolitan Community College - Maple Woods
X-WR-RELCALID:b4a735868f8f0f7feb3106085430c447
X-WR-TIMEZONE:America/Chicago
BEGIN:VTIMEZONE
TZID:America/Chicago
BEGIN:STANDARD
TZNAME:CST
DTSTART:20211107T020000
TZOFFSETFROM:-0500
TZOFFSETTO:-0600
RDATE:20221106T020000
RDATE:20231105T020000
END:STANDARD
BEGIN:DAYLIGHT
TZNAME:CDT
DTSTART:20220313T020000
TZOFFSETFROM:-0600
TZOFFSETTO:-0500
RDATE:20230312T020000
END:DAYLIGHT
END:VTIMEZONE
BEGIN:VEVENT
UID:9c807cb4-914c-4770-a007-a13bb9e23bcd
DTSTAMP:20260424T194054Z
DESCRIPTION:Metropolitan Community College - Maple Woods
DTSTART;TZID=America/Chicago:20220521T130000
DTEND;TZID=America/Chicago:20220521T190000
LOCATION:2601 NE Barry Rd\, Kansas City\, MO 64156 US
SUMMARY:'Rockin in the Woods' jazz event
END:VEVENT
END:VCALENDAR
