BEGIN:VCALENDAR
VERSION:2.0
PRODID:-//feednorthlandkids.org//NONSGML kigkonsult.se iCalcreator 2.30.10/
 /
CALSCALE:GREGORIAN
METHOD:PUBLISH
UID:0246acc4-21fe-4b7c-afee-5e3917ec9856
X-WR-CALDESC:Worth Harley-Davidson
X-WR-RELCALID:cc661c6ddb0c89549d64fa92715dc7a7
X-WR-TIMEZONE:America/Chicago
BEGIN:VTIMEZONE
TZID:America/Chicago
BEGIN:STANDARD
TZNAME:CST
DTSTART:20211107T020000
TZOFFSETFROM:-0500
TZOFFSETTO:-0600
RDATE:20221106T020000
RDATE:20231105T020000
END:STANDARD
BEGIN:DAYLIGHT
TZNAME:CDT
DTSTART:20220313T020000
TZOFFSETFROM:-0600
TZOFFSETTO:-0500
RDATE:20230312T020000
END:DAYLIGHT
END:VTIMEZONE
BEGIN:VEVENT
UID:24da88b5-6dba-4959-bf58-8da1496f0996
DTSTAMP:20260424T193801Z
DESCRIPTION:Worth Harley-Davidson
DTSTART;TZID=America/Chicago:20220605T080000
DTEND;TZID=America/Chicago:20220605T170000
LOCATION:9400 NW Prairie View Rd\, Kansas City\, MO 64153 US
SUMMARY:Know Norm Run
END:VEVENT
END:VCALENDAR
