BEGIN:VCALENDAR
VERSION:2.0
PRODID:-//feednorthlandkids.org//NONSGML kigkonsult.se iCalcreator 2.30.10/
 /
CALSCALE:GREGORIAN
METHOD:PUBLISH
UID:f7d90060-9cd2-45a8-b0cd-3d7f66d5766e
X-WR-CALDESC:Join the Creekside community for Donuts with Santa and a food 
 drive for Feed Northland Kids.
X-WR-RELCALID:8f4c99048d09b159bdf833e1fde4db74
X-WR-TIMEZONE:America/Chicago
BEGIN:VTIMEZONE
TZID:America/Chicago
BEGIN:STANDARD
TZNAME:CST
DTSTART:20241103T020000
TZOFFSETFROM:-0500
TZOFFSETTO:-0600
RDATE:20251102T020000
END:STANDARD
BEGIN:DAYLIGHT
TZNAME:CDT
DTSTART:20240310T020000
TZOFFSETFROM:-0600
TZOFFSETTO:-0500
RDATE:20250309T020000
RDATE:20260308T020000
END:DAYLIGHT
END:VTIMEZONE
BEGIN:VEVENT
UID:c2633c33-4021-491c-a56e-aa6739f669d1
DTSTAMP:20260424T170603Z
DESCRIPTION:Join the Creekside community for Donuts with Santa and a food d
 rive for Feed Northland Kids.
DTSTART;TZID=America/Chicago:20241214T090000
DTEND;TZID=America/Chicago:20241214T110000
LOCATION:15425 Old Town Dr\, Suite 210-K\, Parkville\, MO 64152 US
SUMMARY:Donuts with Santa- Creekside at Boho Brewing
END:VEVENT
END:VCALENDAR
